BEGIN:VCALENDAR
VERSION:2.0
PRODID:-//wp-events-plugin.com//5.99912//EN
TZID:Europe/Paris
X-WR-TIMEZONE:Europe/Paris
BEGIN:VEVENT
UID:0-29@lespenitentsnoirs.aubagne.fr
DTSTART;TZID=Europe/Paris:20260423T110000
DTEND;TZID=Europe/Paris:20260423T120000
DTSTAMP:20260305T084453Z
URL:https://lespenitentsnoirs.aubagne.fr/evenements/escape-game-6/
SUMMARY:Escape Game
DESCRIPTION:À partir de 14 ans et par groupe déjà constitué\, de 4 à 6
  personnes. \nGroupe de 6 personnes maximum.\nSur inscription au 04.42.18.
 17.26. ou par email chapelle.penitents@aubagne.fr
ATTACH;FMTTYPE=image/jpeg:https://lespenitentsnoirs.aubagne.fr/app/uploads
 /sites/5/2025/03/photo-facade-2.jpg
LOCATION:Centre d&#8217;art contemporain Les Pénitents Noirs\, Les Aires S
 aint-Michel 13400 Aubagne\, France
X-APPLE-STRUCTURED-LOCATION;VALUE=URI;X-ADDRESS=Les Aires Saint-Michel 1340
 0 Aubagne\, France;X-APPLE-RADIUS=100;X-TITLE=Centre d’art contemporain 
 Les Pénitents Noirs:geo:0,0
END:VEVENT
BEGIN:VTIMEZONE
TZID:Europe/Paris
X-LIC-LOCATION:Europe/Paris
BEGIN:DAYLIGHT
DTSTART:20260329T030000
TZOFFSETFROM:+0100
TZOFFSETTO:+0200
TZNAME:CEST
END:DAYLIGHT
END:VTIMEZONE
END:VCALENDAR